BEGIN:VCALENDAR
VERSION:2.0
PRODID:-//Staatsbad - ECPv6.15.20//NONSGML v1.0//EN
CALSCALE:GREGORIAN
METHOD:PUBLISH
X-ORIGINAL-URL:https://www.staatsbad.de
X-WR-CALDESC:Veranstaltungen für Staatsbad
REFRESH-INTERVAL;VALUE=DURATION:PT1H
X-Robots-Tag:noindex
X-PUBLISHED-TTL:PT1H
BEGIN:VTIMEZONE
TZID:Europe/Berlin
BEGIN:DAYLIGHT
TZOFFSETFROM:+0100
TZOFFSETTO:+0200
TZNAME:CEST
DTSTART:20290325T010000
END:DAYLIGHT
BEGIN:STANDARD
TZOFFSETFROM:+0200
TZOFFSETTO:+0100
TZNAME:CET
DTSTART:20291028T010000
END:STANDARD
BEGIN:DAYLIGHT
TZOFFSETFROM:+0100
TZOFFSETTO:+0200
TZNAME:CEST
DTSTART:20300331T010000
END:DAYLIGHT
BEGIN:STANDARD
TZOFFSETFROM:+0200
TZOFFSETTO:+0100
TZNAME:CET
DTSTART:20301027T010000
END:STANDARD
BEGIN:DAYLIGHT
TZOFFSETFROM:+0100
TZOFFSETTO:+0200
TZNAME:CEST
DTSTART:20310330T010000
END:DAYLIGHT
BEGIN:STANDARD
TZOFFSETFROM:+0200
TZOFFSETTO:+0100
TZNAME:CET
DTSTART:20311026T010000
END:STANDARD
END:VTIMEZONE
BEGIN:VEVENT
DTSTART;TZID=Europe/Berlin:20301203T150000
DTEND;TZID=Europe/Berlin:20301203T160000
DTSTAMP:20260422T120709
CREATED:20230607T071536Z
LAST-MODIFIED:20260106T080901Z
UID:10036233-1922540400-1922544000@www.staatsbad.de
SUMMARY:Offene Werkstatt - Goldschmiede
DESCRIPTION:Schauen Sie Daniela Brust bei ihrer Arbeit über die Schulter: In ihrer offenen Werkstatt zeigt sie Ihnen gerne\, wie sie aus Edelmetallen wunderschöne Schmuckstücke zaubert. Sie können ihr bei der filigranen Arbeit mit Feuer und Hammer zuschauen und sich von ihrer Leidenschaft für das Goldschmiedehandwerk inspirieren lassen. Bestimmt sind Sie begeistert von der Handwerkskunst und der Liebe zum Detail\, die in jedem ihrer Schmuckstücke steckt. Erleben Sie hautnah\, wie aus Gold\, Silber und Edelsteinen echte Kunstwerke entstehen. \nVeranstalter: Goldschmiede – Daniela Brust\nJeden Dienstag von 15.00 bis 16.00 Uhr im Wandelgang\nAnmeldung bitte bis zum Vortag unter Tel.: 09741 / 2506 \nMit Gast-\, Tages- und Jahreskarte ist der Besuch kostenfrei
URL:https://www.staatsbad.de/veranstaltung/offene-werkstatt-goldschmiede-2/2030-12-03/
LOCATION:Wandelgang/ Staatsbad\, Heinrich-von-Bibra-Straße 17\, Bad Brückenau\, Bayern\, 97769\, Germany
CATEGORIES:Freizeit
ATTACH;FMTTYPE=image/jpeg:https://www.staatsbad.de/wp-content/uploads/2023/03/Goldschmiede-scaled.jpg
END:VEVENT
BEGIN:VEVENT
DTSTART;TZID=Europe/Berlin:20301210T150000
DTEND;TZID=Europe/Berlin:20301210T160000
DTSTAMP:20260422T120709
CREATED:20230607T071536Z
LAST-MODIFIED:20260106T080901Z
UID:10036234-1923145200-1923148800@www.staatsbad.de
SUMMARY:Offene Werkstatt - Goldschmiede
DESCRIPTION:Schauen Sie Daniela Brust bei ihrer Arbeit über die Schulter: In ihrer offenen Werkstatt zeigt sie Ihnen gerne\, wie sie aus Edelmetallen wunderschöne Schmuckstücke zaubert. Sie können ihr bei der filigranen Arbeit mit Feuer und Hammer zuschauen und sich von ihrer Leidenschaft für das Goldschmiedehandwerk inspirieren lassen. Bestimmt sind Sie begeistert von der Handwerkskunst und der Liebe zum Detail\, die in jedem ihrer Schmuckstücke steckt. Erleben Sie hautnah\, wie aus Gold\, Silber und Edelsteinen echte Kunstwerke entstehen. \nVeranstalter: Goldschmiede – Daniela Brust\nJeden Dienstag von 15.00 bis 16.00 Uhr im Wandelgang\nAnmeldung bitte bis zum Vortag unter Tel.: 09741 / 2506 \nMit Gast-\, Tages- und Jahreskarte ist der Besuch kostenfrei
URL:https://www.staatsbad.de/veranstaltung/offene-werkstatt-goldschmiede-2/2030-12-10/
LOCATION:Wandelgang/ Staatsbad\, Heinrich-von-Bibra-Straße 17\, Bad Brückenau\, Bayern\, 97769\, Germany
CATEGORIES:Freizeit
ATTACH;FMTTYPE=image/jpeg:https://www.staatsbad.de/wp-content/uploads/2023/03/Goldschmiede-scaled.jpg
END:VEVENT
BEGIN:VEVENT
DTSTART;TZID=Europe/Berlin:20301217T150000
DTEND;TZID=Europe/Berlin:20301217T160000
DTSTAMP:20260422T120709
CREATED:20230607T071536Z
LAST-MODIFIED:20260106T080901Z
UID:10036235-1923750000-1923753600@www.staatsbad.de
SUMMARY:Offene Werkstatt - Goldschmiede
DESCRIPTION:Schauen Sie Daniela Brust bei ihrer Arbeit über die Schulter: In ihrer offenen Werkstatt zeigt sie Ihnen gerne\, wie sie aus Edelmetallen wunderschöne Schmuckstücke zaubert. Sie können ihr bei der filigranen Arbeit mit Feuer und Hammer zuschauen und sich von ihrer Leidenschaft für das Goldschmiedehandwerk inspirieren lassen. Bestimmt sind Sie begeistert von der Handwerkskunst und der Liebe zum Detail\, die in jedem ihrer Schmuckstücke steckt. Erleben Sie hautnah\, wie aus Gold\, Silber und Edelsteinen echte Kunstwerke entstehen. \nVeranstalter: Goldschmiede – Daniela Brust\nJeden Dienstag von 15.00 bis 16.00 Uhr im Wandelgang\nAnmeldung bitte bis zum Vortag unter Tel.: 09741 / 2506 \nMit Gast-\, Tages- und Jahreskarte ist der Besuch kostenfrei
URL:https://www.staatsbad.de/veranstaltung/offene-werkstatt-goldschmiede-2/2030-12-17/
LOCATION:Wandelgang/ Staatsbad\, Heinrich-von-Bibra-Straße 17\, Bad Brückenau\, Bayern\, 97769\, Germany
CATEGORIES:Freizeit
ATTACH;FMTTYPE=image/jpeg:https://www.staatsbad.de/wp-content/uploads/2023/03/Goldschmiede-scaled.jpg
END:VEVENT
BEGIN:VEVENT
DTSTART;TZID=Europe/Berlin:20301224T150000
DTEND;TZID=Europe/Berlin:20301224T160000
DTSTAMP:20260422T120709
CREATED:20230607T071536Z
LAST-MODIFIED:20260106T080901Z
UID:10036236-1924354800-1924358400@www.staatsbad.de
SUMMARY:Offene Werkstatt - Goldschmiede
DESCRIPTION:Schauen Sie Daniela Brust bei ihrer Arbeit über die Schulter: In ihrer offenen Werkstatt zeigt sie Ihnen gerne\, wie sie aus Edelmetallen wunderschöne Schmuckstücke zaubert. Sie können ihr bei der filigranen Arbeit mit Feuer und Hammer zuschauen und sich von ihrer Leidenschaft für das Goldschmiedehandwerk inspirieren lassen. Bestimmt sind Sie begeistert von der Handwerkskunst und der Liebe zum Detail\, die in jedem ihrer Schmuckstücke steckt. Erleben Sie hautnah\, wie aus Gold\, Silber und Edelsteinen echte Kunstwerke entstehen. \nVeranstalter: Goldschmiede – Daniela Brust\nJeden Dienstag von 15.00 bis 16.00 Uhr im Wandelgang\nAnmeldung bitte bis zum Vortag unter Tel.: 09741 / 2506 \nMit Gast-\, Tages- und Jahreskarte ist der Besuch kostenfrei
URL:https://www.staatsbad.de/veranstaltung/offene-werkstatt-goldschmiede-2/2030-12-24/
LOCATION:Wandelgang/ Staatsbad\, Heinrich-von-Bibra-Straße 17\, Bad Brückenau\, Bayern\, 97769\, Germany
CATEGORIES:Freizeit
ATTACH;FMTTYPE=image/jpeg:https://www.staatsbad.de/wp-content/uploads/2023/03/Goldschmiede-scaled.jpg
END:VEVENT
BEGIN:VEVENT
DTSTART;TZID=Europe/Berlin:20301231T150000
DTEND;TZID=Europe/Berlin:20301231T160000
DTSTAMP:20260422T120709
CREATED:20230607T071536Z
LAST-MODIFIED:20260106T080901Z
UID:10036237-1924959600-1924963200@www.staatsbad.de
SUMMARY:Offene Werkstatt - Goldschmiede
DESCRIPTION:Schauen Sie Daniela Brust bei ihrer Arbeit über die Schulter: In ihrer offenen Werkstatt zeigt sie Ihnen gerne\, wie sie aus Edelmetallen wunderschöne Schmuckstücke zaubert. Sie können ihr bei der filigranen Arbeit mit Feuer und Hammer zuschauen und sich von ihrer Leidenschaft für das Goldschmiedehandwerk inspirieren lassen. Bestimmt sind Sie begeistert von der Handwerkskunst und der Liebe zum Detail\, die in jedem ihrer Schmuckstücke steckt. Erleben Sie hautnah\, wie aus Gold\, Silber und Edelsteinen echte Kunstwerke entstehen. \nVeranstalter: Goldschmiede – Daniela Brust\nJeden Dienstag von 15.00 bis 16.00 Uhr im Wandelgang\nAnmeldung bitte bis zum Vortag unter Tel.: 09741 / 2506 \nMit Gast-\, Tages- und Jahreskarte ist der Besuch kostenfrei
URL:https://www.staatsbad.de/veranstaltung/offene-werkstatt-goldschmiede-2/2030-12-31/
LOCATION:Wandelgang/ Staatsbad\, Heinrich-von-Bibra-Straße 17\, Bad Brückenau\, Bayern\, 97769\, Germany
CATEGORIES:Freizeit
ATTACH;FMTTYPE=image/jpeg:https://www.staatsbad.de/wp-content/uploads/2023/03/Goldschmiede-scaled.jpg
END:VEVENT
END:VCALENDAR