BEGIN:VCALENDAR
VERSION:2.0
PRODID:-//Staatsbad - ECPv6.15.20//NONSGML v1.0//EN
CALSCALE:GREGORIAN
METHOD:PUBLISH
X-ORIGINAL-URL:https://www.staatsbad.de
X-WR-CALDESC:Veranstaltungen für Staatsbad
REFRESH-INTERVAL;VALUE=DURATION:PT1H
X-Robots-Tag:noindex
X-PUBLISHED-TTL:PT1H
BEGIN:VTIMEZONE
TZID:Europe/Berlin
BEGIN:DAYLIGHT
TZOFFSETFROM:+0100
TZOFFSETTO:+0200
TZNAME:CEST
DTSTART:20250330T010000
END:DAYLIGHT
BEGIN:STANDARD
TZOFFSETFROM:+0200
TZOFFSETTO:+0100
TZNAME:CET
DTSTART:20251026T010000
END:STANDARD
BEGIN:DAYLIGHT
TZOFFSETFROM:+0100
TZOFFSETTO:+0200
TZNAME:CEST
DTSTART:20260329T010000
END:DAYLIGHT
BEGIN:STANDARD
TZOFFSETFROM:+0200
TZOFFSETTO:+0100
TZNAME:CET
DTSTART:20261025T010000
END:STANDARD
BEGIN:DAYLIGHT
TZOFFSETFROM:+0100
TZOFFSETTO:+0200
TZNAME:CEST
DTSTART:20270328T010000
END:DAYLIGHT
BEGIN:STANDARD
TZOFFSETFROM:+0200
TZOFFSETTO:+0100
TZNAME:CET
DTSTART:20271031T010000
END:STANDARD
END:VTIMEZONE
BEGIN:VEVENT
DTSTART;TZID=Europe/Berlin:20260705T150000
DTEND;TZID=Europe/Berlin:20260705T163000
DTSTAMP:20260425T134711
CREATED:20251127T123648Z
LAST-MODIFIED:20251127T123648Z
UID:10036156-1783263600-1783269000@www.staatsbad.de
SUMMARY:Kissinger Sommer zu Gast
DESCRIPTION:Kammerkonzert\nAugustin Hadelich und Seong-Jin Cho sind weltweit gefeierte Instrumentalisten\, die ihre unbegrenzten spieltechnischen Fähigkeiten ganz in den Dienst des musikalischen Ausdrucks stellen – und der hat in ihrem gemeinsamen Programm ausgesprochen reiche Facetten: Beim Anhören von Brahms´ »Regenliedsonate« empfand Clara Schumann »Wonne« und »Wehmut«; Janáčeks Duo ist von der wilden Energie und der herben Lyrik geprägt\, für die der geniale Einzelgänger berühmt ist; Prokofjew zeigt sich in der virtuosen D-Dur-Sonate schließlich von seiner klassizistischen Seite. Das Programm wird durch eine melodiös-expressive Romanze der inzwischen wiederentdeckten Komponistin Amy Beach komplettiert. \nWerke von Johannes Brahms\, Leoš Janáček\, Amy Beach und Sergej Prokofiew. \nAugustin Hadelich\, Violine\nSeong-Jin Cho\, Klavier \n– Veranstaltung bewirtet – \nEintritt: 52\,00 €\, 45\,00 € \nEinlass: 14.00 Uhr \nInformationen und Kartenvorverkauf zur Veranstaltungsreihe :\nKISSINGER SOMMER\,\nRathausplatz 1\, 97688 Bad Kissingen\nTel.: 0971/80 48 444\,\nkissingen-ticket@badkissingen.de\nwww.kissingersommer.de
URL:https://www.staatsbad.de/veranstaltung/kissinger-sommer-zu-gast-3/
LOCATION:Kursaalgebäude (König Ludwig I.-Saal)\, Amand-von-Buseck-Straße 12\, Bad Brückenau\, Bayern\, 97769\, Germany
CATEGORIES:Konzerte
ATTACH;FMTTYPE=image/jpeg:https://www.staatsbad.de/wp-content/uploads/2025/11/Cho-Seong-Jin-Stephan-Rabold.jpg
END:VEVENT
BEGIN:VEVENT
DTSTART;TZID=Europe/Berlin:20260712T200000
DTEND;TZID=Europe/Berlin:20260712T220000
DTSTAMP:20260425T134711
CREATED:20251127T124220Z
LAST-MODIFIED:20251127T124220Z
UID:10036157-1783886400-1783893600@www.staatsbad.de
SUMMARY:Kissinger Sommer
DESCRIPTION:Jubiläumskonzert Symphonieorchester des Bayerischen Rundfunks \nDer Kissinger Sommer feiert in jedem Jahr die Musik\, das Publikum und seine konzertierenden Gäste – und 2026 zusätzlich seinen eigenen 40. Geburtstag. Im offiziellen Jubiläumskonzert treten das regelmäßig in\ndie Top Ten der weltbesten Klangkörper gewählte Symphonieorchester des Bayerischen Rundfunks und sein Chefdirigent Simon Rattle mit dem hauseigenen Vokalensemble und\, darüber hinaus\, mit über 500 Mitgliedern von Chören aus ganz Bayern auf. Ein Open-Air-Erlebnis der Sonderklasse steht also zu erwarten\, zumal Carl Orffs wuchtig-geniale Kantate »Carmina Burana« vor spektakulärer Kulisse erklingen wird: Das Festkonzert ist die erste Klassikveranstaltung auf dem Vorplatz des frisch sanierten Kissinger Turniergebäudes. \nSymphonieorchester des Bayerischen Rundfunks\nChor des Bayerischen Rundfunks\nLaienchöre aus Bayern\nSir Simon Rattle\, Dirigent\nNikola Hilleband\, Sopran\nSunnyboy Dladla\, Tenor\nJohn Brancy\, Bariton \nEintritt: 125\,00 €\, 102\,00 €\, 82\,00 €\, 62\,00 €
URL:https://www.staatsbad.de/veranstaltung/kissinger-sommer-2/
LOCATION:Turnierplatz Bad Kissingen\, In der Au 4\, Bad Kissingen\, 97688
CATEGORIES:Open-Air
END:VEVENT
END:VCALENDAR