BEGIN:VCALENDAR
VERSION:2.0
PRODID:-//Staatsbad - ECPv6.15.20//NONSGML v1.0//EN
CALSCALE:GREGORIAN
METHOD:PUBLISH
X-ORIGINAL-URL:https://www.staatsbad.de
X-WR-CALDESC:Veranstaltungen für Staatsbad
REFRESH-INTERVAL;VALUE=DURATION:PT1H
X-Robots-Tag:noindex
X-PUBLISHED-TTL:PT1H
BEGIN:VTIMEZONE
TZID:Europe/Berlin
BEGIN:DAYLIGHT
TZOFFSETFROM:+0100
TZOFFSETTO:+0200
TZNAME:CEST
DTSTART:20250330T010000
END:DAYLIGHT
BEGIN:STANDARD
TZOFFSETFROM:+0200
TZOFFSETTO:+0100
TZNAME:CET
DTSTART:20251026T010000
END:STANDARD
BEGIN:DAYLIGHT
TZOFFSETFROM:+0100
TZOFFSETTO:+0200
TZNAME:CEST
DTSTART:20260329T010000
END:DAYLIGHT
BEGIN:STANDARD
TZOFFSETFROM:+0200
TZOFFSETTO:+0100
TZNAME:CET
DTSTART:20261025T010000
END:STANDARD
BEGIN:DAYLIGHT
TZOFFSETFROM:+0100
TZOFFSETTO:+0200
TZNAME:CEST
DTSTART:20270328T010000
END:DAYLIGHT
BEGIN:STANDARD
TZOFFSETFROM:+0200
TZOFFSETTO:+0100
TZNAME:CET
DTSTART:20271031T010000
END:STANDARD
END:VTIMEZONE
BEGIN:VEVENT
DTSTART;TZID=Europe/Berlin:20260615T190000
DTEND;TZID=Europe/Berlin:20260615T200000
DTSTAMP:20260420T115840
CREATED:20250227T144351Z
LAST-MODIFIED:20260213T083342Z
UID:10030105-1781550000-1781553600@www.staatsbad.de
SUMMARY:Abend.Weg der Ökomenischen Kurseelsorge
DESCRIPTION:Lebenshauch – „Da formt Gott der HERR den Menschen aus Staub vom Erdboden. Er blies ihm den Lebensatem in die Nase und so wurde der Mensch ein lebendiges Wesen. AbendWEG mit Atemübungen. \nTreffpunkt: Christuskirche/Staatsbad \nTeilnahmegebühr: mit Gastkarte frei \n 
URL:https://www.staatsbad.de/veranstaltung/abendweg-der-oekomenischen-kurseelsorg/
LOCATION:Christuskirche\, Heinrich-von-Bibra-Straße 26\, Bad Brückenau\, Bayern\, 97769\, Germany
CATEGORIES:Spaziergang
ATTACH;FMTTYPE=image/jpeg:https://www.staatsbad.de/wp-content/uploads/2025/09/ev.-Christuskirche-Sommer-BL-5.jpg
ORGANIZER;CN="%C3%96kumenische Kur-%2C G%C3%A4ste- und Reha-Seelsorge":MAILTO:christiane.jakob-seufert@bistum-wuerzburg.de
END:VEVENT
BEGIN:VEVENT
DTSTART;TZID=Europe/Berlin:20260629T190000
DTEND;TZID=Europe/Berlin:20260629T200000
DTSTAMP:20260420T115840
CREATED:20260213T083809Z
LAST-MODIFIED:20260213T083809Z
UID:10036836-1782759600-1782763200@www.staatsbad.de
SUMMARY:Abend.Segen & Segnung
DESCRIPTION:Ich will dich segnen und deinen Namen groß0 machen\, dadass du ein Segen sein wirdt. Das sagte Gott zu Abraham. Wir wollen feiern\, dass wir gesegnet sind und den Segen weitergeben können \nTeilnahmegebühr: mit Gastkarte frei
URL:https://www.staatsbad.de/veranstaltung/abend-segen-segnung/
LOCATION:Christuskirche\, Heinrich-von-Bibra-Straße 26\, Bad Brückenau\, Bayern\, 97769\, Germany
CATEGORIES:Messe
ATTACH;FMTTYPE=image/jpeg:https://www.staatsbad.de/wp-content/uploads/2025/09/ev.-Christuskirche-Sommer-BL-5.jpg
ORGANIZER;CN="%C3%96kumenische Kur-%2C G%C3%A4ste- und Reha-Seelsorge":MAILTO:christiane.jakob-seufert@bistum-wuerzburg.de
END:VEVENT
BEGIN:VEVENT
DTSTART;TZID=Europe/Berlin:20260803T190000
DTEND;TZID=Europe/Berlin:20260803T200000
DTSTAMP:20260420T115840
CREATED:20260212T150524Z
LAST-MODIFIED:20260212T152058Z
UID:10036832-1785783600-1785787200@www.staatsbad.de
SUMMARY:Abend.Segen der Ökumenischen Kurseelsorge
DESCRIPTION:Geh aus mein Herz und suche Freud. Ein Abendsegen mit Liedern von Paul Gerhardt \nTeilnahmegebühr: mit Gastkarte frei
URL:https://www.staatsbad.de/veranstaltung/abend-segen-der-oekumenischen-kurseelsorge-2/
LOCATION:Christuskirche\, Heinrich-von-Bibra-Straße 26\, Bad Brückenau\, Bayern\, 97769\, Germany
CATEGORIES:Kurseelsorge
ATTACH;FMTTYPE=image/jpeg:https://www.staatsbad.de/wp-content/uploads/2025/09/ev.-Christuskirche-Sommer-BL-5.jpg
ORGANIZER;CN="%C3%96kumenische Kur-%2C G%C3%A4ste- und Reha-Seelsorge":MAILTO:christiane.jakob-seufert@bistum-wuerzburg.de
END:VEVENT
END:VCALENDAR